BEGIN:VCALENDAR
VERSION:2.0
PRODID:www.localdojo.com
BEGIN:VEVENT
UID:69e56c25ce91c
DTSTART;TZID=Europe/Prague:20260421T170000
SEQUENCE:0
TRANSP:OPAQUE
DTEND;TZID=Europe/Prague:20260421T180000
URL:https://www.localdojo.com/cz/rajawali-sakti
LOCATION:U školské zahrady č.4\, Praha 8\, 180 00\, Czech Republic
X-APPLE-STRUCTURED-LOCATION;VALUE=URI;X-ADDRESS="U školské zahrady č.4, 
 Praha 8, 180 00, Czech Republic";X-APPLE-RADIUS=49;X-TITLE=Rajawali Sakti 
 :geo:50.124921,14.459981
GEO:50.124921;14.459981
SUMMARY:Rajawali Sakti  - Dojo Na Slovance - děti začátečníci
CLASS:PUBLIC
DESCRIPTION:Dojo Na Slovance - děti začátečníci
RRULE:FREQ=WEEKLY;INTERVAL=1
DTSTAMP:20260419T235829Z
END:VEVENT
END:VCALENDAR