BEGIN:VCALENDAR
VERSION:2.0
PRODID:www.localdojo.com
BEGIN:VEVENT
UID:69e58dbd35dc8
DTSTART;TZID=Europe/Prague:20260422T190000
SEQUENCE:0
TRANSP:OPAQUE
DTEND;TZID=Europe/Prague:20260422T200000
URL:https://www.localdojo.com/cz/rajawali-sakti
LOCATION:U školské zahrady č.4\, Praha 8\, 180 00\, Czech Republic
X-APPLE-STRUCTURED-LOCATION;VALUE=URI;X-ADDRESS="U školské zahrady č.4, 
 Praha 8, 180 00, Czech Republic";X-APPLE-RADIUS=49;X-TITLE=Rajawali Sakti 
 :geo:50.124921,14.459981
GEO:50.124921;14.459981
SUMMARY:Rajawali Sakti  - Dojo Kobylisy - dorost dospělí
CLASS:PUBLIC
DESCRIPTION:Dojo Kobylisy - dorost dospělí
RRULE:FREQ=WEEKLY;INTERVAL=1
DTSTAMP:20260420T022149Z
END:VEVENT
END:VCALENDAR