BEGIN:VCALENDAR
VERSION:2.0
PRODID:www.localdojo.com
BEGIN:VEVENT
UID:69e56a718b01c
DTSTART;TZID=Europe/Prague:20260421T173000
SEQUENCE:0
TRANSP:OPAQUE
DTEND;TZID=Europe/Prague:20260421T190000
URL:https://www.localdojo.com/cz/samuraj-praha
LOCATION:Sídliště 375\, Klecany\, 250 67\, Czech Republic
X-APPLE-STRUCTURED-LOCATION;VALUE=URI;X-ADDRESS="Sídliště 375, Klecany, 
 250 67, Czech Republic";X-APPLE-RADIUS=49;X-TITLE=Samuraj Praha:geo:50.175
 593,14.419675
GEO:50.175593;14.419675
SUMMARY:Samuraj Praha
CLASS:PUBLIC
RRULE:FREQ=WEEKLY;INTERVAL=1
DTSTAMP:20260419T235113Z
END:VEVENT
END:VCALENDAR