BEGIN:VCALENDAR
VERSION:2.0
PRODID:www.localdojo.com
BEGIN:VEVENT
UID:69e5b1165c316
DTSTART;TZID=Europe/Bratislava:20260422T173000
SEQUENCE:0
TRANSP:OPAQUE
DTEND;TZID=Europe/Bratislava:20260422T190000
URL:https://www.localdojo.com/cz/skm-vysluni-uhersky-brod
LOCATION:Na Výsluní 2047\, Uherský Brod\, \, 688 01\, Czech Republic
X-APPLE-STRUCTURED-LOCATION;VALUE=URI;X-ADDRESS="Na Výsluní 2047, Uhersk
 ý Brod, , 688 01, Czech Republic";X-APPLE-RADIUS=49;X-TITLE=SKM Výsluní
  Uherský Brod:geo:49.032108,17.643054
GEO:49.032108;17.643054
SUMMARY:SKM Výsluní Uherský Brod - pokročilí
CLASS:PUBLIC
DESCRIPTION:pokročilí
RRULE:FREQ=WEEKLY;INTERVAL=1
DTSTAMP:20260420T045238Z
END:VEVENT
END:VCALENDAR