BEGIN:VCALENDAR
VERSION:2.0
PRODID:www.localdojo.com
BEGIN:VEVENT
UID:69e69a92e71ac
DTSTART;TZID=Europe/Prague:20260427T180000
SEQUENCE:0
TRANSP:OPAQUE
DTEND;TZID=Europe/Prague:20260427T200000
URL:https://www.localdojo.com/cz/skp-aikido-vsetin
LOCATION:Záviše Kalandry 1095\, Vsetín\, 755 01\, Czech Republic
SUMMARY:SKP Aikido Vsetín - trénik pro pokročilé (od 6. kyu)
CLASS:PUBLIC
DESCRIPTION:trénik pro pokročilé (od 6. kyu)
RRULE:FREQ=WEEKLY;INTERVAL=1
DTSTAMP:20260420T212850Z
END:VEVENT
END:VCALENDAR