BEGIN:VCALENDAR
VERSION:2.0
PRODID:www.localdojo.com
BEGIN:VEVENT
UID:69e4ebc33d2cb
DTSTART;TZID=Europe/Prague:20260421T180000
SEQUENCE:0
TRANSP:OPAQUE
DTEND;TZID=Europe/Prague:20260421T200000
URL:https://www.localdojo.com/cz/skp-aikido-vsetin
LOCATION:Záviše Kalandry 1095\, Vsetín\, 755 01\, Czech Republic
SUMMARY:SKP Aikido Vsetín - společný trénink
CLASS:PUBLIC
DESCRIPTION:společný trénink
RRULE:FREQ=WEEKLY;INTERVAL=1
DTSTAMP:20260419T145043Z
END:VEVENT
END:VCALENDAR