BEGIN:VCALENDAR
VERSION:2.0
PRODID:www.localdojo.com
BEGIN:VEVENT
UID:69e6511e01d0b
DTSTART;TZID=Europe/Bratislava:20260424T144500
SEQUENCE:0
TRANSP:OPAQUE
DTEND;TZID=Europe/Bratislava:20260424T154500
URL:https://www.localdojo.com/cz/skp-judo-ostrava
LOCATION:Skalice 292\, Frýdek-Místek\, 738 01\, Czech Republic
X-APPLE-STRUCTURED-LOCATION;VALUE=URI;X-ADDRESS="Skalice 292, Frýdek-Míst
 ek, 738 01, Czech Republic";X-APPLE-RADIUS=49;X-TITLE=SKP Judo Ostrava:geo
 :49.662610,18.410153
GEO:49.662610;18.410153
SUMMARY:SKP Judo Ostrava - raškovice
CLASS:PUBLIC
DESCRIPTION:raškovice
RRULE:FREQ=WEEKLY;INTERVAL=1
DTSTAMP:20260420T161526Z
END:VEVENT
END:VCALENDAR