BEGIN:VCALENDAR
VERSION:2.0
PRODID:www.localdojo.com
BEGIN:VEVENT
UID:69e67ee5eb62c
DTSTART;TZID=Europe/Prague:20260424T170000
SEQUENCE:0
TRANSP:OPAQUE
DTEND;TZID=Europe/Prague:20260424T190000
URL:https://www.localdojo.com/cz/slovan-hodonin
LOCATION:Tyršova 3214/8\, Hodonín\, 695 01\, Czech Republic
SUMMARY:Slovan Hodonín
CLASS:PUBLIC
RRULE:FREQ=WEEKLY;INTERVAL=1
DTSTAMP:20260420T193045Z
END:VEVENT
END:VCALENDAR