BEGIN:VCALENDAR
VERSION:2.0
PRODID:www.localdojo.com
BEGIN:VEVENT
UID:69e53c519a29c
DTSTART;TZID=Europe/Prague:20260423T180000
SEQUENCE:0
TRANSP:OPAQUE
DTEND;TZID=Europe/Prague:20260423T200000
URL:https://www.localdojo.com/cz/sokol-dedice
LOCATION:Náměstí Svobody 22/17\, Vyškov-Dědice\, 682 01\, Czech Republ
 ic
SUMMARY:Sokol Dědice - dorostenci a muži
CLASS:PUBLIC
DESCRIPTION:dorostenci a muži
RRULE:FREQ=WEEKLY;INTERVAL=1
DTSTAMP:20260419T203425Z
END:VEVENT
END:VCALENDAR