BEGIN:VCALENDAR
VERSION:2.0
PRODID:www.localdojo.com
BEGIN:VEVENT
UID:69e5d627817f5
DTSTART;TZID=Europe/Prague:20260427T200000
SEQUENCE:0
TRANSP:OPAQUE
DTEND;TZID=Europe/Prague:20260427T220000
URL:https://www.localdojo.com/cz/sokol-tabor
LOCATION:Fügnerova 822\, Tábor\, 390 02\, Czech Republic
SUMMARY:Sokol Tábor - dorostenci a dospělí
CLASS:PUBLIC
DESCRIPTION:dorostenci a dospělí
RRULE:FREQ=WEEKLY;INTERVAL=1
DTSTAMP:20260420T073047Z
END:VEVENT
END:VCALENDAR