BEGIN:VCALENDAR
VERSION:2.0
PRODID:www.localdojo.com
BEGIN:VEVENT
UID:69e4e475cdbfe
DTSTART;TZID=Europe/Vienna:20260420T173000
SEQUENCE:0
TRANSP:OPAQUE
DTEND;TZID=Europe/Vienna:20260420T190000
URL:https://www.localdojo.com/cz/spartak-velka-bites
LOCATION:Tyršova 617\, Velká Bíteš\, 595 01\, Czech Republic
X-APPLE-STRUCTURED-LOCATION;VALUE=URI;X-ADDRESS="Tyršova 617, Velká Bíte
 š, 595 01, Czech Republic";X-APPLE-RADIUS=49;X-TITLE=Spartak Velká Bíte
 š:geo:49.291142,16.223283
GEO:49.291142;16.223283
SUMMARY:Spartak Velká Bíteš - dospělí a starší žáci
CLASS:PUBLIC
DESCRIPTION:dospělí a starší žáci
RRULE:FREQ=WEEKLY;INTERVAL=1
DTSTAMP:20260419T141933Z
END:VEVENT
END:VCALENDAR