BEGIN:VCALENDAR
VERSION:2.0
PRODID:www.localdojo.com
BEGIN:VEVENT
UID:69e4c9b303bb2
DTSTART;TZID=Europe/Vienna:20260423T163000
SEQUENCE:0
TRANSP:OPAQUE
DTEND;TZID=Europe/Vienna:20260423T180000
URL:https://www.localdojo.com/cz/spartak-velka-bites
LOCATION:Tyršova 617\, Velká Bíteš\, 595 01\, Czech Republic
X-APPLE-STRUCTURED-LOCATION;VALUE=URI;X-ADDRESS="Tyršova 617, Velká Bíte
 š, 595 01, Czech Republic";X-APPLE-RADIUS=49;X-TITLE=Spartak Velká Bíte
 š:geo:49.291142,16.223283
GEO:49.291142;16.223283
SUMMARY:Spartak Velká Bíteš - mládež
CLASS:PUBLIC
DESCRIPTION:mládež
RRULE:FREQ=WEEKLY;INTERVAL=1
DTSTAMP:20260419T122523Z
END:VEVENT
END:VCALENDAR