BEGIN:VCALENDAR
VERSION:2.0
PRODID:www.localdojo.com
BEGIN:VEVENT
UID:69e65ff96008e
DTSTART;TZID=Europe/Prague:20260424T170000
SEQUENCE:0
TRANSP:OPAQUE
DTEND;TZID=Europe/Prague:20260424T190000
URL:https://www.localdojo.com/cz/vyhlidka-usti-nad-labem
LOCATION:Kekulova 34 A\, Ústí nad Labem\, 400 01\, Czech Republic
X-APPLE-STRUCTURED-LOCATION;VALUE=URI;X-ADDRESS="Kekulova 34 A, Ústí nad 
 Labem, 400 01, Czech Republic";X-APPLE-RADIUS=49;X-TITLE=Vyhlídka Ústí 
 nad Labem:geo:50.662133,14.012822
GEO:50.662133;14.012822
SUMMARY:Vyhlídka Ústí nad Labem
CLASS:PUBLIC
RRULE:FREQ=WEEKLY;INTERVAL=1
DTSTAMP:20260420T171849Z
END:VEVENT
END:VCALENDAR