BEGIN:VCALENDAR
VERSION:2.0
PRODID:www.localdojo.com
BEGIN:VEVENT
UID:69e67ee571456
DTSTART;TZID=Europe/Berlin:20260423T200000
SEQUENCE:0
TRANSP:OPAQUE
DTEND;TZID=Europe/Berlin:20260423T213000
URL:https://www.localdojo.com/de/icon-jiu-jitsu-team-hannover
LOCATION:Kabelkamp 8\, Hannover\, 30179\, Germany
X-APPLE-STRUCTURED-LOCATION;VALUE=URI;X-ADDRESS="Kabelkamp 8, Hannover, 301
 79, Germany";X-APPLE-RADIUS=49;X-TITLE=Icon Jiu-Jitsu Team - Hannover:geo:
 52.412540,9.731070
GEO:52.412540;9.731070
SUMMARY:Icon Jiu-Jitsu Team - Hannover
CLASS:PUBLIC
RRULE:FREQ=WEEKLY;INTERVAL=1
DTSTAMP:20260420T193045Z
END:VEVENT
END:VCALENDAR