BEGIN:VCALENDAR
VERSION:2.0
PRODID:www.localdojo.com
BEGIN:VEVENT
UID:69e50d67ba488
DTSTART;TZID=Europe/Prague:20260421T090000
SEQUENCE:0
TRANSP:OPAQUE
DTEND;TZID=Europe/Prague:20260421T103000
URL:https://www.localdojo.com/de/nexus-fighter-academy
LOCATION:Hammer Steindamm 62 20535\, Hamburk\, 220535\, Germany
SUMMARY:Nexus Fighter Academy - bjj
CLASS:PUBLIC
DESCRIPTION:bjj
RRULE:FREQ=WEEKLY;INTERVAL=1
DTSTAMP:20260419T171415Z
END:VEVENT
END:VCALENDAR