BEGIN:VCALENDAR
VERSION:2.0
PRODID:www.localdojo.com
BEGIN:VEVENT
UID:69e6439ec2d54
DTSTART;TZID=Europe/Prague:20260424T170000
SEQUENCE:0
TRANSP:OPAQUE
DTEND;TZID=Europe/Prague:20260424T180000
URL:https://www.localdojo.com/de/nexus-fighter-academy
LOCATION:Hammer Steindamm 62 20535\, Hamburk\, 220535\, Germany
SUMMARY:Nexus Fighter Academy - bjj kinder
CLASS:PUBLIC
DESCRIPTION:bjj kinder
RRULE:FREQ=WEEKLY;INTERVAL=1
DTSTAMP:20260420T151750Z
END:VEVENT
END:VCALENDAR