BEGIN:VCALENDAR
VERSION:2.0
PRODID:www.localdojo.com
BEGIN:VEVENT
UID:69e633e596e1b
DTSTART;TZID=Europe/Prague:20260425T183000
SEQUENCE:0
TRANSP:OPAQUE
DTEND;TZID=Europe/Prague:20260425T200000
URL:https://www.localdojo.com/de/nexus-fighter-academy
LOCATION:Hammer Steindamm 62 20535\, Hamburk\, 220535\, Germany
SUMMARY:Nexus Fighter Academy - open mat
CLASS:PUBLIC
DESCRIPTION:open mat
RRULE:FREQ=WEEKLY;INTERVAL=1
DTSTAMP:20260420T141045Z
END:VEVENT
END:VCALENDAR