BEGIN:VCALENDAR
VERSION:2.0
PRODID:www.localdojo.com
BEGIN:VEVENT
UID:69e4c55c56f6c
DTSTART;TZID=Europe/Berlin:20260424T100000
SEQUENCE:0
TRANSP:OPAQUE
DTEND;TZID=Europe/Berlin:20260424T210000
URL:https://www.localdojo.com/de/ralf-warneking-jiu-jitsu-berlin?backlink=4
 eoki
LOCATION:Cautiusstraße 42\, Berlin\, 13587\, Germany
X-APPLE-STRUCTURED-LOCATION;VALUE=URI;X-ADDRESS="Cautiusstraße 42, Berlin,
  13587, Germany";X-APPLE-RADIUS=49;X-TITLE=Ralf Warneking Jiu Jitsu Berlin
 :geo:52.561970,13.205990
GEO:52.561970;13.205990
SUMMARY:Ralf Warneking Jiu Jitsu Berlin
CLASS:PUBLIC
RRULE:FREQ=WEEKLY;INTERVAL=1
DTSTAMP:20260419T120652Z
END:VEVENT
END:VCALENDAR