BEGIN:VCALENDAR
VERSION:2.0
PRODID:www.localdojo.com
BEGIN:VEVENT
UID:69e57e5798090
DTSTART;TZID=Europe/Zurich:20260425T093000
SEQUENCE:0
TRANSP:OPAQUE
DTEND;TZID=Europe/Zurich:20260425T103000
URL:https://www.localdojo.com/fr/aikido-cranves-sales
LOCATION:1275\, route des Fontaines\, Cranves-Sales\, 74380\, France
X-APPLE-STRUCTURED-LOCATION;VALUE=URI;X-ADDRESS="1275, route des Fontaines,
  Cranves-Sales, 74380, France";X-APPLE-RADIUS=49;X-TITLE=Aïkido Cranves-S
 ales:geo:46.184688,6.281771
GEO:46.184688;6.281771
SUMMARY:Aïkido Cranves-Sales - Armes
CLASS:PUBLIC
DESCRIPTION:Armes
RRULE:FREQ=WEEKLY;INTERVAL=1
DTSTAMP:20260420T011607Z
END:VEVENT
END:VCALENDAR