BEGIN:VCALENDAR
VERSION:2.0
PRODID:www.localdojo.com
BEGIN:VEVENT
UID:69e4c516c6759
DTSTART;TZID=Europe/Prague:20260425T140000
SEQUENCE:0
TRANSP:OPAQUE
DTEND;TZID=Europe/Prague:20260425T150000
URL:https://www.localdojo.com/fr/bjj-alsace
LOCATION:111 Rue Clemenceau\, 68920\, Wintzenheim\, 68124\, France
SUMMARY:BJJ Alsace - stage grand maitre flavio behring
CLASS:PUBLIC
DESCRIPTION:stage grand maitre flavio behring
RRULE:FREQ=WEEKLY;INTERVAL=1
DTSTAMP:20260419T120542Z
END:VEVENT
END:VCALENDAR