BEGIN:VCALENDAR
VERSION:2.0
PRODID:www.localdojo.com
BEGIN:VEVENT
UID:69e5324de8ec3
DTSTART;TZID=Europe/Paris:20260425T150000
SEQUENCE:0
TRANSP:OPAQUE
DTEND;TZID=Europe/Paris:20260425T160000
URL:https://www.localdojo.com/fr/gracie-barra-fox-team
LOCATION:Gymnase Noue Brossard Avenue Louvois\, Chelles\, 77400\, France
X-APPLE-STRUCTURED-LOCATION;VALUE=URI;X-ADDRESS="Gymnase Noue Brossard Aven
 ue Louvois, Chelles, 77400, France";X-APPLE-RADIUS=49;X-TITLE=Gracie Barra
  Fox Team:geo:48.878767,2.696358
GEO:48.878767;2.696358
SUMMARY:Gracie Barra Fox Team - bjj
CLASS:PUBLIC
DESCRIPTION:bjj
RRULE:FREQ=WEEKLY;INTERVAL=1
DTSTAMP:20260419T195141Z
END:VEVENT
END:VCALENDAR