BEGIN:VCALENDAR
VERSION:2.0
PRODID:www.localdojo.com
BEGIN:VEVENT
UID:69e5c72842205
DTSTART;TZID=Europe/Guernsey:20260426T171500
SEQUENCE:0
TRANSP:OPAQUE
DTEND;TZID=Europe/Guernsey:20260426T183000
URL:https://www.localdojo.com/gb/fightworx-academy
LOCATION:166 TEIGNMOUTH RD\, Torquay\, TQ27EG\, United Kingdom
X-APPLE-STRUCTURED-LOCATION;VALUE=URI;X-ADDRESS="166 TEIGNMOUTH RD, Torquay
 , TQ27EG, United Kingdom";X-APPLE-RADIUS=49;X-TITLE=Fightworx Academy:geo:
 50.481832,-3.536613
GEO:50.481832;-3.536613
SUMMARY:Fightworx Academy - bjj advanced
CLASS:PUBLIC
DESCRIPTION:bjj advanced
RRULE:FREQ=WEEKLY;INTERVAL=1
DTSTAMP:20260420T062648Z
END:VEVENT
END:VCALENDAR