BEGIN:VCALENDAR
VERSION:2.0
PRODID:www.localdojo.com
BEGIN:VEVENT
UID:69e4d68027da2
DTSTART;TZID=Europe/London:20260422T180000
SEQUENCE:0
TRANSP:OPAQUE
DTEND;TZID=Europe/London:20260422T200000
URL:https://www.localdojo.com/gb/ishin-ryu-ju-jitsu-dereham?backlink=4eoki
LOCATION:Station Road Dereham\, Norfolk\, NR19 1DF\, United Kingdom
X-APPLE-STRUCTURED-LOCATION;VALUE=URI;X-ADDRESS="Station Road Dereham, Norf
 olk, NR19 1DF, United Kingdom";X-APPLE-RADIUS=49;X-TITLE=Ishin Ryu Ju Jits
 u Dereham:geo:52.678910,0.946941
GEO:52.678910;0.946941
SUMMARY:Ishin Ryu Ju Jitsu Dereham - Ishin Ryu ju Jitsu infant and junior
CLASS:PUBLIC
DESCRIPTION:Ishin Ryu ju Jitsu infant and junior
RRULE:FREQ=WEEKLY;INTERVAL=1
DTSTAMP:20260419T132000Z
END:VEVENT
END:VCALENDAR