BEGIN:VCALENDAR
VERSION:2.0
PRODID:www.localdojo.com
BEGIN:VEVENT
UID:69e62a3acfb7f
DTSTART;TZID=Europe/London:20260427T190000
SEQUENCE:0
TRANSP:OPAQUE
DTEND;TZID=Europe/London:20260427T203000
URL:https://www.localdojo.com/gb/three-rivers-aikido
LOCATION:8 Park Ave\, Watford\, WD18 7HP\, United Kingdom
X-APPLE-STRUCTURED-LOCATION;VALUE=URI;X-ADDRESS="8 Park Ave, Watford, WD18 
 7HP, United Kingdom";X-APPLE-RADIUS=49;X-TITLE=Three Rivers Aikido:geo:51.
 656294,-0.407036
GEO:51.656294;-0.407036
SUMMARY:Three Rivers Aikido - adult bukki waza
CLASS:PUBLIC
DESCRIPTION:adult bukki waza
RRULE:FREQ=WEEKLY;INTERVAL=1
DTSTAMP:20260420T132930Z
END:VEVENT
END:VCALENDAR