BEGIN:VCALENDAR
VERSION:2.0
PRODID:www.localdojo.com
BEGIN:VEVENT
UID:69e67cfb9dcdf
DTSTART;TZID=Europe/Warsaw:20260424T173000
SEQUENCE:0
TRANSP:OPAQUE
DTEND;TZID=Europe/Warsaw:20260424T203000
URL:https://www.localdojo.com/pl/aikido-sagaku-dojo
LOCATION:Targowa 5\, Stalowa Wola\, 37-450\, Poland
X-APPLE-STRUCTURED-LOCATION;VALUE=URI;X-ADDRESS="Targowa 5, Stalowa Wola, 3
 7-450, Poland";X-APPLE-RADIUS=49;X-TITLE=Aikido SAGAKU Dojo:geo:50.587679,
 22.045160
GEO:50.587679;22.045160
SUMMARY:Aikido SAGAKU Dojo
CLASS:PUBLIC
RRULE:FREQ=WEEKLY;INTERVAL=1
DTSTAMP:20260420T192235Z
END:VEVENT
END:VCALENDAR