BEGIN:VCALENDAR
VERSION:2.0
PRODID:www.localdojo.com
BEGIN:VEVENT
UID:69e60cb7c6195
DTSTART;TZID=Europe/Berlin:20260424T191500
SEQUENCE:0
TRANSP:OPAQUE
DTEND;TZID=Europe/Berlin:20260424T203000
URL:https://www.localdojo.com/pl/aikido-shin-dojo
LOCATION:Sasankowa 25/2\, Poznan -Tarnowo Podgórne\, 62-080\, Poland
X-APPLE-STRUCTURED-LOCATION;VALUE=URI;X-ADDRESS="Sasankowa 25/2, Poznan -Ta
 rnowo Podgórne, 62-080, Poland";X-APPLE-RADIUS=49;X-TITLE=Aikido Shin Doj
 o:geo:52.386940,16.811224
GEO:52.386940;16.811224
SUMMARY:Aikido Shin Dojo - beginners - jo\, bokken\, tanto
CLASS:PUBLIC
DESCRIPTION:beginners - jo\, bokken\, tanto
RRULE:FREQ=WEEKLY;INTERVAL=1
DTSTAMP:20260420T112335Z
END:VEVENT
END:VCALENDAR