BEGIN:VCALENDAR
VERSION:2.0
PRODID:www.localdojo.com
BEGIN:VEVENT
UID:69e54d5829c63
DTSTART;TZID=Europe/Kaliningrad:20260421T160000
SEQUENCE:0
TRANSP:OPAQUE
DTEND;TZID=Europe/Kaliningrad:20260421T170000
URL:https://www.localdojo.com/pl/gizycki-klub-aikido
LOCATION:ul. Mickiewicza 33A\, Giżycko\, 11-500\, Poland
X-APPLE-STRUCTURED-LOCATION;VALUE=URI;X-ADDRESS="ul. Mickiewicza 33A, Giży
 cko, 11-500, Poland";X-APPLE-RADIUS=49;X-TITLE=Giżycki Klub Aikido:geo:54
 .037698,21.771542
GEO:54.037698;21.771542
SUMMARY:Giżycki Klub Aikido - Dzieci początkujące (gr.2: 6-9 lat)
CLASS:PUBLIC
DESCRIPTION:Dzieci początkujące (gr.2: 6-9 lat)
RRULE:FREQ=WEEKLY;INTERVAL=1
DTSTAMP:20260419T214704Z
END:VEVENT
END:VCALENDAR