BEGIN:VCALENDAR
VERSION:2.0
PRODID:www.localdojo.com
BEGIN:VEVENT
UID:69e5e3f88b1fa
DTSTART;TZID=Europe/Bratislava:20260422T173000
SEQUENCE:0
TRANSP:OPAQUE
DTEND;TZID=Europe/Bratislava:20260422T190000
URL:https://www.localdojo.com/pl/gliwice
LOCATION:Częstochowska 22/8\, Gliwice\, 44-100\, Poland
X-APPLE-STRUCTURED-LOCATION;VALUE=URI;X-ADDRESS="Częstochowska 22/8, Gliwi
 ce, 44-100, Poland";X-APPLE-RADIUS=49;X-TITLE=Gliwice:geo:50.295097,18.677
 226
GEO:50.295097;18.677226
SUMMARY:Gliwice - Kids
CLASS:PUBLIC
DESCRIPTION:Kids
RRULE:FREQ=WEEKLY;INTERVAL=1
DTSTAMP:20260420T082944Z
END:VEVENT
END:VCALENDAR