BEGIN:VCALENDAR
VERSION:2.0
PRODID:www.localdojo.com
BEGIN:VEVENT
UID:69e5b113d50e3
DTSTART;TZID=Europe/Uzhgorod:20260422T190000
SEQUENCE:0
TRANSP:OPAQUE
DTEND;TZID=Europe/Uzhgorod:20260422T200000
URL:https://www.localdojo.com/pl/onshin-krakowski-klub-aikido
LOCATION:Wspólna 19\, Kraków\, 30-654\, Poland
X-APPLE-STRUCTURED-LOCATION;VALUE=URI;X-ADDRESS="Wspólna 19, Kraków, 30-6
 54, Poland";X-APPLE-RADIUS=49;X-TITLE=Onshin Krakowski klub Aikido:geo:50.
 019809,19.954663
GEO:50.019809;19.954663
SUMMARY:Onshin Krakowski klub Aikido - teens and adult
CLASS:PUBLIC
DESCRIPTION:teens and adult
RRULE:FREQ=WEEKLY;INTERVAL=1
DTSTAMP:20260420T045235Z
END:VEVENT
END:VCALENDAR