BEGIN:VCALENDAR
VERSION:2.0
PRODID:www.localdojo.com
BEGIN:VEVENT
UID:69e575c2c2777
DTSTART;TZID=Europe/Copenhagen:20260426T120000
SEQUENCE:0
TRANSP:OPAQUE
DTEND;TZID=Europe/Copenhagen:20260426T130000
URL:https://www.localdojo.com/se/sweden-tk-bjj-academy
LOCATION:Herkulesgatan 56\, Göteborg\, 41701\, Sweden
X-APPLE-STRUCTURED-LOCATION;VALUE=URI;X-ADDRESS="Herkulesgatan 56, Götebor
 g, 41701, Sweden";X-APPLE-RADIUS=49;X-TITLE=Sweden TK BJJ Academy:geo:57.7
 12888,11.941847
GEO:57.712888;11.941847
SUMMARY:Sweden TK BJJ Academy - mma
CLASS:PUBLIC
DESCRIPTION:mma
RRULE:FREQ=WEEKLY;INTERVAL=1
DTSTAMP:20260420T003930Z
END:VEVENT
END:VCALENDAR