BEGIN:VCALENDAR
VERSION:2.0
PRODID:www.localdojo.com
BEGIN:VEVENT
UID:69e63dd71b8ca
DTSTART;TZID=Europe/Prague:20260424T180000
SEQUENCE:0
TRANSP:OPAQUE
DTEND;TZID=Europe/Prague:20260424T200000
URL:https://www.localdojo.com/sk/aikido-dojo-kazan
LOCATION:Detva\, Štúrova 848/19\, 962 12\, Slovakia
SUMMARY:Aikidó dojo KAZAN
CLASS:PUBLIC
RRULE:FREQ=WEEKLY;INTERVAL=1
DTSTAMP:20260420T145311Z
END:VEVENT
END:VCALENDAR