BEGIN:VCALENDAR
VERSION:2.0
PRODID:www.localdojo.com
BEGIN:VEVENT
UID:69e57e5d20476
DTSTART;TZID=Europe/Bratislava:20260427T171500
SEQUENCE:0
TRANSP:OPAQUE
DTEND;TZID=Europe/Bratislava:20260427T184500
URL:https://www.localdojo.com/sk/aikido-dojo-trencin
LOCATION:Radlinského ulica\, Bánovce nad Bebravou\, 957 01\, Slovakia
X-APPLE-STRUCTURED-LOCATION;VALUE=URI;X-ADDRESS="Radlinského ulica, Bánov
 ce nad Bebravou, 957 01, Slovakia";X-APPLE-RADIUS=49;X-TITLE=Aikido dojo T
 renčín:geo:48.721745,18.255907
GEO:48.721745;18.255907
SUMMARY:Aikido dojo Trenčín - Aikido
CLASS:PUBLIC
DESCRIPTION:Aikido
RRULE:FREQ=WEEKLY;INTERVAL=1
DTSTAMP:20260420T011613Z
END:VEVENT
END:VCALENDAR