BEGIN:VCALENDAR
VERSION:2.0
PRODID:www.localdojo.com
BEGIN:VEVENT
UID:69e4d7fc98c10
DTSTART;TZID=Europe/Prague:20260422T143000
SEQUENCE:0
TRANSP:OPAQUE
DTEND;TZID=Europe/Prague:20260422T153000
URL:https://www.localdojo.com/sk/dojo-shotai-martin
LOCATION:Martin\, Československej armády\, 036 01\, Slovakia
SUMMARY:Dojo Shotai Martin - Deti
CLASS:PUBLIC
DESCRIPTION:Deti
RRULE:FREQ=WEEKLY;INTERVAL=1
DTSTAMP:20260419T132620Z
END:VEVENT
END:VCALENDAR