BEGIN:VCALENDAR
VERSION:2.0
PRODID:www.localdojo.com
BEGIN:VEVENT
UID:69e681bf05175
DTSTART;TZID=Europe/Prague:20260422T193000
SEQUENCE:0
TRANSP:OPAQUE
DTEND;TZID=Europe/Prague:20260422T210000
URL:https://www.localdojo.com/sk/dojo-shotai-martin
LOCATION:Martin\, Československej armády\, 036 01\, Slovakia
SUMMARY:Dojo Shotai Martin - Dospeli
CLASS:PUBLIC
DESCRIPTION:Dospeli
RRULE:FREQ=WEEKLY;INTERVAL=1
DTSTAMP:20260420T194255Z
END:VEVENT
END:VCALENDAR