BEGIN:VCALENDAR
VERSION:2.0
PRODID:www.localdojo.com
BEGIN:VEVENT
UID:69e4fabf54c9e
DTSTART;TZID=Europe/Prague:20260421T180000
SEQUENCE:0
TRANSP:OPAQUE
DTEND;TZID=Europe/Prague:20260421T184500
URL:https://www.localdojo.com/us/aikido-ai
LOCATION:6725 Comstock Avenue\, Whittier\, CA 90601\, United States
SUMMARY:Aikido Ai - intermediate Qigong
CLASS:PUBLIC
DESCRIPTION:intermediate Qigong
RRULE:FREQ=WEEKLY;INTERVAL=1
DTSTAMP:20260419T155439Z
END:VEVENT
END:VCALENDAR