BEGIN:VCALENDAR
VERSION:2.0
PRODID:www.localdojo.com
BEGIN:VEVENT
UID:69e50525aa647
DTSTART;TZID=Europe/Prague:20260422T190000
SEQUENCE:0
TRANSP:OPAQUE
DTEND;TZID=Europe/Prague:20260422T200000
URL:https://www.localdojo.com/us/aikido-ai
LOCATION:6725 Comstock Avenue\, Whittier\, CA 90601\, United States
SUMMARY:Aikido Ai - aikido basic
CLASS:PUBLIC
DESCRIPTION:aikido basic
RRULE:FREQ=WEEKLY;INTERVAL=1
DTSTAMP:20260419T163901Z
END:VEVENT
END:VCALENDAR