BEGIN:VCALENDAR
VERSION:2.0
PRODID:www.localdojo.com
BEGIN:VEVENT
UID:69e50f1a31c90
DTSTART;TZID=Europe/Prague:20260425T103000
SEQUENCE:0
TRANSP:OPAQUE
DTEND;TZID=Europe/Prague:20260425T113000
URL:https://www.localdojo.com/us/aikido-ai
LOCATION:6725 Comstock Avenue\, Whittier\, CA 90601\, United States
SUMMARY:Aikido Ai - aikido intermediate
CLASS:PUBLIC
DESCRIPTION:aikido intermediate
RRULE:FREQ=WEEKLY;INTERVAL=1
DTSTAMP:20260419T172130Z
END:VEVENT
END:VCALENDAR