BEGIN:VCALENDAR
VERSION:2.0
PRODID:www.localdojo.com
BEGIN:VEVENT
UID:69e633dd92034
DTSTART;TZID=Europe/Prague:20260423T115500
SEQUENCE:0
TRANSP:OPAQUE
DTEND;TZID=Europe/Prague:20260423T125500
URL:https://www.localdojo.com/us/aikido-at-noon
LOCATION:501 Laurel St\, Menlo Park\, CA 94025\, United States
SUMMARY:Aikido at Noon
CLASS:PUBLIC
RRULE:FREQ=WEEKLY;INTERVAL=1
DTSTAMP:20260420T141037Z
END:VEVENT
END:VCALENDAR