BEGIN:VCALENDAR
VERSION:2.0
PRODID:www.localdojo.com
BEGIN:VEVENT
UID:69e5b807053d8
DTSTART;TZID=Europe/Prague:20260422T180000
SEQUENCE:0
TRANSP:OPAQUE
DTEND;TZID=Europe/Prague:20260422T190000
URL:https://www.localdojo.com/us/aikido-borealis
LOCATION:23747 Hilltop Dr\, Anchorage\, AK 99567\, United States
SUMMARY:Aikido Borealis - juniors
CLASS:PUBLIC
DESCRIPTION:juniors
RRULE:FREQ=WEEKLY;INTERVAL=1
DTSTAMP:20260420T052215Z
END:VEVENT
END:VCALENDAR