BEGIN:VCALENDAR
VERSION:2.0
PRODID:www.localdojo.com
BEGIN:VEVENT
UID:69e641bd1b933
DTSTART;TZID=Europe/Prague:20260427T080000
SEQUENCE:0
TRANSP:OPAQUE
DTEND;TZID=Europe/Prague:20260427T091500
URL:https://www.localdojo.com/us/bjj-shore-academy-bill-scott
LOCATION:654 Route 88 East (Ocean Road)\, Point Pleasant\, 8742\, United St
 ates
SUMMARY:BJJ Shore Academy - Bill Scott - yoga
CLASS:PUBLIC
DESCRIPTION:yoga
RRULE:FREQ=WEEKLY;INTERVAL=1
DTSTAMP:20260420T150949Z
END:VEVENT
END:VCALENDAR