BEGIN:VCALENDAR
VERSION:2.0
PRODID:www.localdojo.com
BEGIN:VEVENT
UID:69e6451d243c5
DTSTART;TZID=Europe/Prague:20260421T163000
SEQUENCE:0
TRANSP:OPAQUE
DTEND;TZID=Europe/Prague:20260421T170000
URL:https://www.localdojo.com/us/bjj-shore-academy-bill-scott
LOCATION:654 Route 88 East (Ocean Road)\, Point Pleasant\, 8742\, United St
 ates
SUMMARY:BJJ Shore Academy - Bill Scott - little champs 3-4 year olds
CLASS:PUBLIC
DESCRIPTION:little champs 3-4 year olds
RRULE:FREQ=WEEKLY;INTERVAL=1
DTSTAMP:20260420T152413Z
END:VEVENT
END:VCALENDAR