BEGIN:VCALENDAR
VERSION:2.0
PRODID:www.localdojo.com
BEGIN:VEVENT
UID:69e69a8e6a3d1
DTSTART;TZID=Europe/Prague:20260422T090000
SEQUENCE:0
TRANSP:OPAQUE
DTEND;TZID=Europe/Prague:20260422T101500
URL:https://www.localdojo.com/us/bjj-shore-academy-bill-scott
LOCATION:654 Route 88 East (Ocean Road)\, Point Pleasant\, 8742\, United St
 ates
SUMMARY:BJJ Shore Academy - Bill Scott - yoga
CLASS:PUBLIC
DESCRIPTION:yoga
RRULE:FREQ=WEEKLY;INTERVAL=1
DTSTAMP:20260420T212846Z
END:VEVENT
END:VCALENDAR