BEGIN:VCALENDAR
VERSION:2.0
PRODID:www.localdojo.com
BEGIN:VEVENT
UID:69e69a8ab09e2
DTSTART;TZID=Europe/Prague:20260422T180000
SEQUENCE:0
TRANSP:OPAQUE
DTEND;TZID=Europe/Prague:20260422T190000
URL:https://www.localdojo.com/us/bjj-shore-academy-bill-scott
LOCATION:654 Route 88 East (Ocean Road)\, Point Pleasant\, 8742\, United St
 ates
SUMMARY:BJJ Shore Academy - Bill Scott - basic gi bjj
CLASS:PUBLIC
DESCRIPTION:basic gi bjj
RRULE:FREQ=WEEKLY;INTERVAL=1
DTSTAMP:20260420T212842Z
END:VEVENT
END:VCALENDAR