BEGIN:VCALENDAR
VERSION:2.0
PRODID:www.localdojo.com
BEGIN:VEVENT
UID:69e6a00391f95
DTSTART;TZID=Europe/Prague:20260423T200000
SEQUENCE:0
TRANSP:OPAQUE
DTEND;TZID=Europe/Prague:20260423T210000
URL:https://www.localdojo.com/us/bjj-shore-academy-bill-scott
LOCATION:654 Route 88 East (Ocean Road)\, Point Pleasant\, 8742\, United St
 ates
SUMMARY:BJJ Shore Academy - Bill Scott - kickboxing and muay thai
CLASS:PUBLIC
DESCRIPTION:kickboxing and muay thai
RRULE:FREQ=WEEKLY;INTERVAL=1
DTSTAMP:20260420T215203Z
END:VEVENT
END:VCALENDAR