BEGIN:VCALENDAR
VERSION:2.0
PRODID:www.localdojo.com
BEGIN:VEVENT
UID:69e575b6418e7
DTSTART;TZID=Europe/Prague:20260425T093000
SEQUENCE:0
TRANSP:OPAQUE
DTEND;TZID=Europe/Prague:20260425T101500
URL:https://www.localdojo.com/us/bjj-shore-academy-bill-scott
LOCATION:654 Route 88 East (Ocean Road)\, Point Pleasant\, 8742\, United St
 ates
SUMMARY:BJJ Shore Academy - Bill Scott - kids bjj all levels
CLASS:PUBLIC
DESCRIPTION:kids bjj all levels
RRULE:FREQ=WEEKLY;INTERVAL=1
DTSTAMP:20260420T003918Z
END:VEVENT
END:VCALENDAR