BEGIN:VCALENDAR
VERSION:2.0
PRODID:www.localdojo.com
BEGIN:VEVENT
UID:69e6136173b5a
DTSTART;TZID=Europe/Prague:20260425T101500
SEQUENCE:0
TRANSP:OPAQUE
DTEND;TZID=Europe/Prague:20260425T110000
URL:https://www.localdojo.com/us/bjj-shore-academy-bill-scott
LOCATION:654 Route 88 East (Ocean Road)\, Point Pleasant\, 8742\, United St
 ates
SUMMARY:BJJ Shore Academy - Bill Scott - kickboxing
CLASS:PUBLIC
DESCRIPTION:kickboxing
RRULE:FREQ=WEEKLY;INTERVAL=1
DTSTAMP:20260420T115201Z
END:VEVENT
END:VCALENDAR