BEGIN:VCALENDAR
VERSION:2.0
PRODID:www.localdojo.com
BEGIN:VEVENT
UID:69e681bf7f994
DTSTART;TZID=Europe/Prague:20260426T100000
SEQUENCE:0
TRANSP:OPAQUE
DTEND;TZID=Europe/Prague:20260426T113000
URL:https://www.localdojo.com/us/bjj-shore-academy-bill-scott
LOCATION:654 Route 88 East (Ocean Road)\, Point Pleasant\, 8742\, United St
 ates
SUMMARY:BJJ Shore Academy - Bill Scott - adult gi bjj
CLASS:PUBLIC
DESCRIPTION:adult gi bjj
RRULE:FREQ=WEEKLY;INTERVAL=1
DTSTAMP:20260420T194255Z
END:VEVENT
END:VCALENDAR