BEGIN:VCALENDAR
VERSION:2.0
PRODID:www.localdojo.com
BEGIN:VEVENT
UID:69e5cc10c0adb
DTSTART;TZID=America/Tijuana:20260421T160000
SEQUENCE:0
TRANSP:OPAQUE
DTEND;TZID=America/Tijuana:20260421T170000
URL:https://www.localdojo.com/us/del-mar-jiu-jitsu-club?backlink=parj5
LOCATION:2120 Jimmy Durante Blvd #121\, Del Mar\, 92014\, United States
X-APPLE-STRUCTURED-LOCATION;VALUE=URI;X-ADDRESS="2120 Jimmy Durante Blvd #1
 21, Del Mar, 92014, United States";X-APPLE-RADIUS=49;X-TITLE=Del Mar Jiu-J
 itsu Club:geo:32.970186,-117.264271
GEO:32.970186;-117.264271
SUMMARY:Del Mar Jiu-Jitsu Club - little kids fundamentals
CLASS:PUBLIC
DESCRIPTION:little kids fundamentals
RRULE:FREQ=WEEKLY;INTERVAL=1
DTSTAMP:20260420T064744Z
END:VEVENT
END:VCALENDAR