BEGIN:VCALENDAR
VERSION:2.0
PRODID:www.localdojo.com
BEGIN:VEVENT
UID:69e6439e47926
DTSTART;TZID=Europe/Prague:20260421T191500
SEQUENCE:0
TRANSP:OPAQUE
DTEND;TZID=Europe/Prague:20260421T203000
URL:https://www.localdojo.com/us/denver-aikikai
LOCATION:1592 S Broadway\, Denver\, CO 80210\, United States
SUMMARY:Denver Aikikai - general
CLASS:PUBLIC
DESCRIPTION:general
RRULE:FREQ=WEEKLY;INTERVAL=1
DTSTAMP:20260420T151750Z
END:VEVENT
END:VCALENDAR