BEGIN:VCALENDAR
VERSION:2.0
PRODID:www.localdojo.com
BEGIN:VEVENT
UID:69e646275de5c
DTSTART;TZID=Europe/Prague:20260424T180000
SEQUENCE:0
TRANSP:OPAQUE
DTEND;TZID=Europe/Prague:20260424T193000
URL:https://www.localdojo.com/us/denver-aikikai
LOCATION:1592 S Broadway\, Denver\, CO 80210\, United States
SUMMARY:Denver Aikikai - general and advanced
CLASS:PUBLIC
DESCRIPTION:general and advanced
RRULE:FREQ=WEEKLY;INTERVAL=1
DTSTAMP:20260420T152839Z
END:VEVENT
END:VCALENDAR